BEGIN:VCALENDAR
VERSION:2.0
PRODID:-//ddaysoftware.com//NONSGML DDay.iCal 1.0//EN
BEGIN:VEVENT
CLASS:PUBLIC
CREATED:20260420T122602
DESCRIPTION:Inselführung\n\n Als gebürtiger Insulaner zeigt Ihnen Peer Agen
 a Sehenswertes und\n\n seine Lieblingsplätze. Dabei weiß er allerlei lusti
 ge Döntjes (lustige\n\n Geschichten und Erlebtes) von seiner Insel zu erzä
 hlen.\n\n Wenn Sie Ihren Urlaubstag nicht am Strand verbringen\, sondern s
 ich gern ein paar Stunden bewegen und trotzdem entspannen wollen\, dann is
 t seine Radreise über Langeoog genau das Richtige für Sie!\n\n Bitte mit F
 ahrrad zum Treffpunkt kommen.
DTSTAMP:20260420T122602
DTSTART:20191017T103000
LOCATION:Info-Café (Wiesenweg 1)
SEQUENCE:0
SUMMARY:Inselführung mit dem Fahrrad
UID:c10b8dd3-9b45-41ad-ba1b-3b239a92d8cc
URL:https://www.langeoog-unterkunft.de/Veranstaltungen/Inselfuehrung-Fahrra
 d.htm
END:VEVENT
END:VCALENDAR
